BEGIN:VCALENDAR
VERSION:2.0
PRODID:-//Maestría en Ecohidrología - ECPv6.15.20//NONSGML v1.0//EN
CALSCALE:GREGORIAN
METHOD:PUBLISH
X-WR-CALNAME:Maestría en Ecohidrología
X-ORIGINAL-URL:https://ecohidrologia.ing.unlp.edu.ar
X-WR-CALDESC:Eventos para Maestría en Ecohidrología
REFRESH-INTERVAL;VALUE=DURATION:PT1H
X-Robots-Tag:noindex
X-PUBLISHED-TTL:PT1H
BEGIN:VTIMEZONE
TZID:UTC
BEGIN:STANDARD
TZOFFSETFROM:+0000
TZOFFSETTO:+0000
TZNAME:UTC
DTSTART:20250101T000000
END:STANDARD
END:VTIMEZONE
BEGIN:VEVENT
DTSTART;VALUE=DATE:20260313
DTEND;VALUE=DATE:20260314
DTSTAMP:20260420T045800
CREATED:20260219T133227Z
LAST-MODIFIED:20260220T153742Z
UID:556-1773360000-1773446399@ecohidrologia.ing.unlp.edu.ar
SUMMARY:Reunión ordinaria del CAM
DESCRIPTION:Se estableció la próxima fecha de reunión ordinaria del CAM: \n\nPróxima fecha de reunión; 13/03/2026. \nFecha límite de recepción de documentación para ser tratada por el CAM 27/02/2026.\n\nEjemplos de trámites que exigen presentar documentación: \n\nPresentación de tesis para designación de jurados.\nPresentación de Plan de Tesis.\nRe-inscripciones de alumnos con más de 5 años de admitidos por el CAM.\n\nPara más información consultar al mail: ecohidrología@ing.unlp.edu.ar
URL:https://ecohidrologia.ing.unlp.edu.ar/event/reunion-ordinaria-del-cam/
END:VEVENT
END:VCALENDAR